BEGIN:VCALENDAR
VERSION:2.0
PRODID:-//beQuoted.com
CALSCALE:GREGORIAN
X-WR-CALNAME:beQuoted.com
METHOD:PUBLISH

BEGIN:VEVENT

SUMMARY:Årsredovisning 2026 (VIMAB Group AB)

DTSTART:20270520

DESCRIPTION:

END:VEVENT

END:VCALENDAR