BEGIN:VCALENDAR
VERSION:2.0
PRODID:-//beQuoted.com
CALSCALE:GREGORIAN
X-WR-CALNAME:beQuoted.com
METHOD:PUBLISH

BEGIN:VEVENT

SUMMARY:Årsstämma (Link Prop Investment AB)

DTSTART:20260520

DESCRIPTION:

END:VEVENT

END:VCALENDAR