BEGIN:VCALENDAR
VERSION:2.0
PRODID:-//beQuoted.com
CALSCALE:GREGORIAN
X-WR-CALNAME:beQuoted.com
METHOD:PUBLISH

BEGIN:VEVENT

SUMMARY:Resultatpresentation av KlaraBos delårsrapport, Q1 2026 (KlaraBo Sverige AB)

DTSTART:20260429T070000Z

DESCRIPTION:

END:VEVENT

END:VCALENDAR