BEGIN:VCALENDAR
VERSION:2.0
PRODID:-//beQuoted.com
CALSCALE:GREGORIAN
X-WR-CALNAME:beQuoted.com
METHOD:PUBLISH

BEGIN:VEVENT

SUMMARY:VD och CFO presenterar resultatet för första kvartalet 2026 (Cibus Nordic Real Estate AB)

DTSTART:20260429T080000Z

DESCRIPTION:

END:VEVENT

END:VCALENDAR