BEGIN:VCALENDAR
VERSION:2.0
PRODID:-//beQuoted.com
CALSCALE:GREGORIAN
X-WR-CALNAME:beQuoted.com
METHOD:PUBLISH

BEGIN:VEVENT

SUMMARY:Årsstämma 2025 (Caybon Holding AB)

DTSTART:20260604

DESCRIPTION:

END:VEVENT

END:VCALENDAR