BEGIN:VCALENDAR
VERSION:2.0
PRODID:-//beQuoted.com
CALSCALE:GREGORIAN
X-WR-CALNAME:beQuoted.com
METHOD:PUBLISH

BEGIN:VEVENT

SUMMARY:Halvårsrapport 2026 (Bonäsudden Holding AB)

DTSTART:20260826

DESCRIPTION:

END:VEVENT

END:VCALENDAR